BEGIN:VCALENDAR
VERSION:2.0
PRODID:-//archive.cryptologicfoundation.org//NONSGML kigkonsult.se iCalcrea
 tor 2.30.10//
CALSCALE:GREGORIAN
METHOD:PUBLISH
UID:ccb6ad1a-e745-4d91-bb5e-ba93d1ce1476
X-WR-CALDESC:25 September 1807: Alfred Vail\, co-inventor of the telegraph 
 was born. \n\nVail was central\, with Samuel F. B. Morse\, in developing a
 nd commercializing the telegraph between 1837 and 1844. Vail and Morse wer
 e the first two telegraph operators on Morse's first experimental line bet
 ween Washington\, DC\, and Baltimore\, and Vail took charge of building an
 d managing several early telegraph lines between 1845 and 1848. He was als
 o responsible for several technical innovations of Morse's system\, partic
 ularly the sending key and improved recording registers and relay magnets.
  (wikipedia)
X-WR-RELCALID:f021431ffc1d910a36eb6363e845ba4c
X-WR-TIMEZONE:America/New_York
BEGIN:VTIMEZONE
TZID:America/New_York
BEGIN:STANDARD
TZNAME:EST
DTSTART:20251102T020000
TZOFFSETFROM:-0400
TZOFFSETTO:-0500
RDATE:20261101T020000
RDATE:20271107T020000
END:STANDARD
BEGIN:DAYLIGHT
TZNAME:EDT
DTSTART:20260308T020000
TZOFFSETFROM:-0500
TZOFFSETTO:-0400
RDATE:20270314T020000
RDATE:20280312T020000
END:DAYLIGHT
END:VTIMEZONE
BEGIN:VEVENT
UID:4402e73d-5206-49df-898b-41c595cb8e6f
DTSTAMP:20260424T125750Z
DESCRIPTION:25 September 1807: Alfred Vail\, co-inventor of the telegraph w
 as born. \n\nVail was central\, with Samuel F. B. Morse\, in developing an
 d commercializing the telegraph between 1837 and 1844. Vail and Morse were
  the first two telegraph operators on Morse's first experimental line betw
 een Washington\, DC\, and Baltimore\, and Vail took charge of building and
  managing several early telegraph lines between 1845 and 1848. He was also
  responsible for several technical innovations of Morse's system\, particu
 larly the sending key and improved recording registers and relay magnets. 
 (wikipedia)
DTSTART;TZID=America/New_York:20260925T000000
DTEND;TZID=America/New_York:20260925T235900
LOCATION:
SUMMARY:1807: Alfred Vail\, Telegraph Co-Inventor Born
END:VEVENT
END:VCALENDAR
