BEGIN:VCALENDAR
VERSION:2.0
PRODID:-//archive.cryptologicfoundation.org//NONSGML kigkonsult.se iCalcrea
 tor 2.30.10//
CALSCALE:GREGORIAN
METHOD:PUBLISH
UID:731e868a-cc43-469a-9f9a-6369b92c40ec
X-WR-CALDESC:26 September 1967: Hubert H. Humphrey visited NSA\; first vice
 -presidential visit. \n\nVice President Hubert Humphrey visited NSA #OTD i
 n 1967. Mr. Humphrey gave a speech of appreciation to the NSA workforce fo
 r their substantial contributions to the national defense. He then toured 
 two operational areas and examined the exhibits on display at NSA for Nati
 onal Security Week.  When General Carter (DIRNSA at the time) mentioned th
 at this was the first visit of a Vice President in the Agency's history\, 
 Mr. Humphrey quipped\, 'As Vice President\, it's always reassuring to be f
 irst in anything.'\n\nLearn more via the link below to a 1967 NSA newslett
 er.
X-WR-RELCALID:582332fc174cac894e6758eef0db5d60
X-WR-TIMEZONE:America/New_York
BEGIN:VTIMEZONE
TZID:America/New_York
BEGIN:STANDARD
TZNAME:EST
DTSTART:20251102T020000
TZOFFSETFROM:-0400
TZOFFSETTO:-0500
RDATE:20261101T020000
RDATE:20271107T020000
END:STANDARD
BEGIN:DAYLIGHT
TZNAME:EDT
DTSTART:20260308T020000
TZOFFSETFROM:-0500
TZOFFSETTO:-0400
RDATE:20270314T020000
RDATE:20280312T020000
END:DAYLIGHT
END:VTIMEZONE
BEGIN:VEVENT
UID:e83dbbbf-91a1-4c3c-8dc9-46240d277f87
DTSTAMP:20260424T125733Z
DESCRIPTION:26 September 1967: Hubert H. Humphrey visited NSA\; first vice-
 presidential visit. \n\nVice President Hubert Humphrey visited NSA #OTD in
  1967. Mr. Humphrey gave a speech of appreciation to the NSA workforce for
  their substantial contributions to the national defense. He then toured t
 wo operational areas and examined the exhibits on display at NSA for Natio
 nal Security Week.  When General Carter (DIRNSA at the time) mentioned tha
 t this was the first visit of a Vice President in the Agency's history\, M
 r. Humphrey quipped\, 'As Vice President\, it's always reassuring to be fi
 rst in anything.'\n\nLearn more via the link below to a 1967 NSA newslette
 r.
DTSTART;TZID=America/New_York:20260926T000000
DTEND;TZID=America/New_York:20260926T235900
LOCATION:
SUMMARY:1967: First Vice-Presidential Visit to NSA
END:VEVENT
END:VCALENDAR
