BEGIN:VCALENDAR
VERSION:2.0
PRODID:-//archive.cryptologicfoundation.org//NONSGML kigkonsult.se iCalcrea
 tor 2.30.10//
CALSCALE:GREGORIAN
METHOD:PUBLISH
UID:d7ee02f6-25fb-4cc0-aff5-7f5822dceb27
X-WR-CALDESC:29 September 1978: USMC turned over responsibility for guardin
 g NSA Fort Meade to Federal Protective Service.
X-WR-RELCALID:fdfe696efc3f436a249d784739d271ee
X-WR-TIMEZONE:America/New_York
BEGIN:VTIMEZONE
TZID:America/New_York
BEGIN:STANDARD
TZNAME:EST
DTSTART:20251102T020000
TZOFFSETFROM:-0400
TZOFFSETTO:-0500
RDATE:20261101T020000
RDATE:20271107T020000
END:STANDARD
BEGIN:DAYLIGHT
TZNAME:EDT
DTSTART:20260308T020000
TZOFFSETFROM:-0500
TZOFFSETTO:-0400
RDATE:20270314T020000
RDATE:20280312T020000
END:DAYLIGHT
END:VTIMEZONE
BEGIN:VEVENT
UID:f9af85b1-2247-445e-813e-335aa7a2b7a8
DTSTAMP:20260424T125117Z
DESCRIPTION:29 September 1978: USMC turned over responsibility for guarding
  NSA Fort Meade to Federal Protective Service.
DTSTART;TZID=America/New_York:20260929T000000
DTEND;TZID=America/New_York:20260929T235900
LOCATION:
SUMMARY:1978: Fort Meade Protective Service
END:VEVENT
END:VCALENDAR
