BEGIN:VCALENDAR
VERSION:2.0
PRODID:-//archive.cryptologicfoundation.org//NONSGML kigkonsult.se iCalcrea
 tor 2.30.10//
CALSCALE:GREGORIAN
METHOD:PUBLISH
UID:338cb5f8-5412-442e-b67a-0bf7fdfb1663
X-WR-CALDESC:30 September 1924: Edward Hebern received a patent for an elec
 tric coding machine\, the first U.S. cipher machine to use a rotor. \n\nUn
 fortunately for Mr. Hebern\, both William Friedman and Agnes Myer Driscoll
  were able to solve messages encrypted on it\, so the U.S. Army and the U.
 S. Navy never used his rotor-based machine.
X-WR-RELCALID:bcaa5f23539f1845cc05de792ee4772a
X-WR-TIMEZONE:America/New_York
BEGIN:VTIMEZONE
TZID:America/New_York
BEGIN:STANDARD
TZNAME:EST
DTSTART:20251102T020000
TZOFFSETFROM:-0400
TZOFFSETTO:-0500
RDATE:20261101T020000
RDATE:20271107T020000
END:STANDARD
BEGIN:DAYLIGHT
TZNAME:EDT
DTSTART:20260308T020000
TZOFFSETFROM:-0500
TZOFFSETTO:-0400
RDATE:20270314T020000
RDATE:20280312T020000
END:DAYLIGHT
END:VTIMEZONE
BEGIN:VEVENT
UID:1c4c64e5-4edd-4b57-a5d9-5cfd241d2041
DTSTAMP:20260424T125236Z
DESCRIPTION:30 September 1924: Edward Hebern received a patent for an elect
 ric coding machine\, the first U.S. cipher machine to use a rotor. \n\nUnf
 ortunately for Mr. Hebern\, both William Friedman and Agnes Myer Driscoll 
 were able to solve messages encrypted on it\, so the U.S. Army and the U.S
 . Navy never used his rotor-based machine.
DTSTART;TZID=America/New_York:20260930T000000
DTEND;TZID=America/New_York:20260930T235900
LOCATION:
SUMMARY:1924: Edward Hebern Received Patent
END:VEVENT
END:VCALENDAR
