BEGIN:VCALENDAR
VERSION:2.0
PRODID:-//archive.cryptologicfoundation.org//NONSGML kigkonsult.se iCalcrea
 tor 2.30.10//
CALSCALE:GREGORIAN
METHOD:PUBLISH
UID:3c1e30a4-f860-4c45-ac9c-bbfecc29e627
X-WR-CALDESC:30 September 1953: Frank Moorman\, chief of G2A6 during WWI\, 
 died. \n\nIn July 1918\, Colonel (Coast Artillery Corps) Frank Moorman rec
 eived the Army Distinguished Service Medal for exceptionally meritorious a
 nd distinguished services to the Government of the United States\, in a du
 ty of great responsibility during World War I. \n\nThe order reads.....'In
  a position of greatest responsibility\, Colonel Moorman displayed peculia
 r genius\, combined with exact scientific knowledge\, in organizing\, trai
 ning\, and operating the Radio Intelligence Service of the Intelligence Se
 ction. Charged with the duty of intercepting and deciphering the radio mes
 sages of the enemy\, he acted with initiative and foresight\, achieving br
 illiant results.'\nGeneral Orders: War Department\, General Orders No. 59 
 (1919)
X-WR-RELCALID:cb676aa8833ea0e7ab70e31f75c6417a
X-WR-TIMEZONE:America/New_York
BEGIN:VTIMEZONE
TZID:America/New_York
BEGIN:STANDARD
TZNAME:EST
DTSTART:20251102T020000
TZOFFSETFROM:-0400
TZOFFSETTO:-0500
RDATE:20261101T020000
RDATE:20271107T020000
END:STANDARD
BEGIN:DAYLIGHT
TZNAME:EDT
DTSTART:20260308T020000
TZOFFSETFROM:-0500
TZOFFSETTO:-0400
RDATE:20270314T020000
RDATE:20280312T020000
END:DAYLIGHT
END:VTIMEZONE
BEGIN:VEVENT
UID:55975a7a-51c9-430e-92a5-e48b5fdc1b7e
DTSTAMP:20260424T125118Z
DESCRIPTION:30 September 1953: Frank Moorman\, chief of G2A6 during WWI\, d
 ied. \n\nIn July 1918\, Colonel (Coast Artillery Corps) Frank Moorman rece
 ived the Army Distinguished Service Medal for exceptionally meritorious an
 d distinguished services to the Government of the United States\, in a dut
 y of great responsibility during World War I. \n\nThe order reads.....'In 
 a position of greatest responsibility\, Colonel Moorman displayed peculiar
  genius\, combined with exact scientific knowledge\, in organizing\, train
 ing\, and operating the Radio Intelligence Service of the Intelligence Sec
 tion. Charged with the duty of intercepting and deciphering the radio mess
 ages of the enemy\, he acted with initiative and foresight\, achieving bri
 lliant results.'\nGeneral Orders: War Department\, General Orders No. 59 (
 1919)
DTSTART;TZID=America/New_York:20260930T000000
DTEND;TZID=America/New_York:20260930T235900
LOCATION:
SUMMARY:1953: Frank Moorman Died
END:VEVENT
END:VCALENDAR
