BEGIN:VCALENDAR
VERSION:2.0
PRODID:-//archive.cryptologicfoundation.org//NONSGML kigkonsult.se iCalcrea
 tor 2.30.10//
CALSCALE:GREGORIAN
METHOD:PUBLISH
UID:dc66a807-2ceb-4aaa-9ee3-a587db778923
X-WR-CALDESC:1 October 1949: AFSA assumed operational control of cryptologi
 c activities.
X-WR-RELCALID:ab40750ca88f8b9e31c1b83b4d78970f
X-WR-TIMEZONE:America/New_York
BEGIN:VTIMEZONE
TZID:America/New_York
BEGIN:STANDARD
TZNAME:EST
DTSTART:20251102T020000
TZOFFSETFROM:-0400
TZOFFSETTO:-0500
RDATE:20261101T020000
RDATE:20271107T020000
END:STANDARD
BEGIN:DAYLIGHT
TZNAME:EDT
DTSTART:20260308T020000
TZOFFSETFROM:-0500
TZOFFSETTO:-0400
RDATE:20270314T020000
RDATE:20280312T020000
END:DAYLIGHT
END:VTIMEZONE
BEGIN:VEVENT
UID:866b8ba1-aef8-4d63-bdfb-ab06dae0185f
DTSTAMP:20260424T142447Z
DESCRIPTION:1 October 1949: AFSA assumed operational control of cryptologic
  activities.
DTSTART;TZID=America/New_York:20261001T000000
DTEND;TZID=America/New_York:20261001T235900
LOCATION:
SUMMARY:1949: AFSA Assumed Cryptologic Activities
END:VEVENT
END:VCALENDAR
