BEGIN:VCALENDAR
VERSION:2.0
PRODID:-//archive.cryptologicfoundation.org//NONSGML kigkonsult.se iCalcrea
 tor 2.30.10//
CALSCALE:GREGORIAN
METHOD:PUBLISH
UID:29eda020-9427-4a2f-b4c1-e407e47f50e2
X-WR-CALDESC:2 October 1780: British Major John André was hanged as a spy a
 t the age of 31 for his role in supporting Benedict Arnold's treason durin
 g the American Revolution.\n\nMost Americans believed that Benedict Arnold
  should have been the one to die because of his treason. André was just in
  the proverbial 'wrong place at the wrong time.' George Washington even co
 mmunicated to General Clinton that he would trade André for Arnold so Arno
 ld could be hanged instead\, but such an exchange did not take place. Andr
 é was hanged and was mourned\, even by his enemies.\n\nA monument was erec
 ted in 1879 on the site of André's execution in New York\, where the follo
 wing quote by George Washington is inscribed: 'He was more unfortunate tha
 n criminal\, An accomplished man and a gallant officer.' —George Washingto
 n
X-WR-RELCALID:93f757fb45fc95d52d6137c11af305c2
X-WR-TIMEZONE:America/New_York
BEGIN:VTIMEZONE
TZID:America/New_York
BEGIN:STANDARD
TZNAME:EST
DTSTART:20251102T020000
TZOFFSETFROM:-0400
TZOFFSETTO:-0500
RDATE:20261101T020000
RDATE:20271107T020000
END:STANDARD
BEGIN:DAYLIGHT
TZNAME:EDT
DTSTART:20260308T020000
TZOFFSETFROM:-0500
TZOFFSETTO:-0400
RDATE:20270314T020000
RDATE:20280312T020000
END:DAYLIGHT
END:VTIMEZONE
BEGIN:VEVENT
UID:e65b0ee5-73f7-409d-abe2-1c102fbf2ccb
DTSTAMP:20260424T142852Z
DESCRIPTION:2 October 1780: British Major John André was hanged as a spy at
  the age of 31 for his role in supporting Benedict Arnold's treason during
  the American Revolution.\n\nMost Americans believed that Benedict Arnold 
 should have been the one to die because of his treason. André was just in 
 the proverbial 'wrong place at the wrong time.' George Washington even com
 municated to General Clinton that he would trade André for Arnold so Arnol
 d could be hanged instead\, but such an exchange did not take place. André
  was hanged and was mourned\, even by his enemies.\n\nA monument was erect
 ed in 1879 on the site of André's execution in New York\, where the follow
 ing quote by George Washington is inscribed: 'He was more unfortunate than
  criminal\, An accomplished man and a gallant officer.' —George Washington
DTSTART;TZID=America/New_York:20261002T000000
DTEND;TZID=America/New_York:20261002T235900
LOCATION:
SUMMARY:1780: British Major John André Hanged As a Spy
END:VEVENT
END:VCALENDAR
