BEGIN:VCALENDAR
VERSION:2.0
PRODID:-//archive.cryptologicfoundation.org//NONSGML kigkonsult.se iCalcrea
 tor 2.30.10//
CALSCALE:GREGORIAN
METHOD:PUBLISH
UID:e350c3d1-3c0d-4972-be10-fa9c6845efb3
X-WR-CALDESC:3 October 1940:  U.S. Army and Navy agreed to 'odd/even' day d
 ivision of effort on Japanese diplomatic cipher.
X-WR-RELCALID:183a678881317009e6c1c0b9f0bbb96d
X-WR-TIMEZONE:America/New_York
BEGIN:VTIMEZONE
TZID:America/New_York
BEGIN:STANDARD
TZNAME:EST
DTSTART:20251102T020000
TZOFFSETFROM:-0400
TZOFFSETTO:-0500
RDATE:20261101T020000
RDATE:20271107T020000
END:STANDARD
BEGIN:DAYLIGHT
TZNAME:EDT
DTSTART:20260308T020000
TZOFFSETFROM:-0500
TZOFFSETTO:-0400
RDATE:20270314T020000
RDATE:20280312T020000
END:DAYLIGHT
END:VTIMEZONE
BEGIN:VEVENT
UID:fc13b575-3630-4266-a35b-3e04b5dd9934
DTSTAMP:20260424T142707Z
DESCRIPTION:3 October 1940:  U.S. Army and Navy agreed to 'odd/even' day di
 vision of effort on Japanese diplomatic cipher.
DTSTART;TZID=America/New_York:20261003T000000
DTEND;TZID=America/New_York:20261003T235900
LOCATION:
SUMMARY:1940: 'Odd/Even' Agreement for Army & Navy
END:VEVENT
END:VCALENDAR
