BEGIN:VCALENDAR
VERSION:2.0
PRODID:-//archive.cryptologicfoundation.org//NONSGML kigkonsult.se iCalcrea
 tor 2.30.10//
CALSCALE:GREGORIAN
METHOD:PUBLISH
UID:ef999397-cece-4eaa-bd27-c137f11f58aa
X-WR-CALDESC:5 October 1942: The U.S. Army transferred the Cryptographic Di
 vision School from Ft. Monmouth to Vint Hill Farms\, Virginia and became k
 nown as the Signal Corps Cryptographic School. It trained both officers an
 d enlisted students in two shifts until new facilities were completed in M
 ay 1943. In June 1944\, the school became known as the Vint Hill Farms Sch
 ool with a focus on cryptanalysis\, traffic analysis\, and cryptographic e
 quipment maintenance. When the Army Security Agency (ASA) was created in S
 eptember 1945\, it assumed the mission of the former Signal Intelligence S
 ervice. The Vint Hill School was renamed the ASA school on 15 Oct 1946\, e
 ncompassing both officer and enlisted training. \n\nThe ASA School moved t
 o Carlisle Barracks\, Pennsylvania\, in 1949 and then to Fort Devens\, Mas
 sachusetts in 1951\, where it eventually became known as the US Army Secur
 ity Agency Training Center and School (USASATC&S). In October 1976\, the U
 SASATC&S became part of the US Army Intelligence Center and School (USAICS
 ) at Fort Huachuca\, although Signals Intelligence (SIGINT) training remai
 ned primarily at Fort Devens until 1994\, when all MI training was consoli
 dated under USAICS. Today\, while the responsibility for all Military Inte
 lligence training falls to the US Army Intelligence Center of Excellence\,
  many of the SIGINT courses are taught offsite\, at Goodfellow Air Force B
 ase in San Angelo\, Texas and Corry Station\, in Pensacola\, Florida.\n\nI
 nformation and image from Military Intelligence - This Week in History. Fo
 llow link below to see more.
X-WR-RELCALID:e77e2cf74c95439e27c1b0769a3716ca
X-WR-TIMEZONE:America/New_York
BEGIN:VTIMEZONE
TZID:America/New_York
BEGIN:STANDARD
TZNAME:EST
DTSTART:20251102T020000
TZOFFSETFROM:-0400
TZOFFSETTO:-0500
RDATE:20261101T020000
RDATE:20271107T020000
END:STANDARD
BEGIN:DAYLIGHT
TZNAME:EDT
DTSTART:20260308T020000
TZOFFSETFROM:-0500
TZOFFSETTO:-0400
RDATE:20270314T020000
RDATE:20280312T020000
END:DAYLIGHT
END:VTIMEZONE
BEGIN:VEVENT
UID:4eae9b93-a3e3-407c-9303-8d5e13391d97
DTSTAMP:20260424T143026Z
DESCRIPTION:5 October 1942: The U.S. Army transferred the Cryptographic Div
 ision School from Ft. Monmouth to Vint Hill Farms\, Virginia and became kn
 own as the Signal Corps Cryptographic School. It trained both officers and
  enlisted students in two shifts until new facilities were completed in Ma
 y 1943. In June 1944\, the school became known as the Vint Hill Farms Scho
 ol with a focus on cryptanalysis\, traffic analysis\, and cryptographic eq
 uipment maintenance. When the Army Security Agency (ASA) was created in Se
 ptember 1945\, it assumed the mission of the former Signal Intelligence Se
 rvice. The Vint Hill School was renamed the ASA school on 15 Oct 1946\, en
 compassing both officer and enlisted training. \n\nThe ASA School moved to
  Carlisle Barracks\, Pennsylvania\, in 1949 and then to Fort Devens\, Mass
 achusetts in 1951\, where it eventually became known as the US Army Securi
 ty Agency Training Center and School (USASATC&S). In October 1976\, the US
 ASATC&S became part of the US Army Intelligence Center and School (USAICS)
  at Fort Huachuca\, although Signals Intelligence (SIGINT) training remain
 ed primarily at Fort Devens until 1994\, when all MI training was consolid
 ated under USAICS. Today\, while the responsibility for all Military Intel
 ligence training falls to the US Army Intelligence Center of Excellence\, 
 many of the SIGINT courses are taught offsite\, at Goodfellow Air Force Ba
 se in San Angelo\, Texas and Corry Station\, in Pensacola\, Florida.\n\nIn
 formation and image from Military Intelligence - This Week in History. Fol
 low link below to see more.
DTSTART;TZID=America/New_York:20261005T000000
DTEND;TZID=America/New_York:20261005T235900
LOCATION:
SUMMARY:1942: Army Transfers Cryptographic Division School
END:VEVENT
END:VCALENDAR
