BEGIN:VCALENDAR
VERSION:2.0
PRODID:-//archive.cryptologicfoundation.org//NONSGML kigkonsult.se iCalcrea
 tor 2.30.10//
CALSCALE:GREGORIAN
METHOD:PUBLISH
UID:b93e2ff0-b40c-4984-8915-6346f3403c54
X-WR-CALDESC:7 October 1918: First in the 'Lakes' series of field codes\, '
 Champlain\,' was released.
X-WR-RELCALID:f61eb5b3e31d47c5cf4a9da9effb500d
X-WR-TIMEZONE:America/New_York
BEGIN:VTIMEZONE
TZID:America/New_York
BEGIN:STANDARD
TZNAME:EST
DTSTART:20251102T020000
TZOFFSETFROM:-0400
TZOFFSETTO:-0500
RDATE:20261101T020000
RDATE:20271107T020000
END:STANDARD
BEGIN:DAYLIGHT
TZNAME:EDT
DTSTART:20260308T020000
TZOFFSETFROM:-0500
TZOFFSETTO:-0400
RDATE:20270314T020000
RDATE:20280312T020000
END:DAYLIGHT
END:VTIMEZONE
BEGIN:VEVENT
UID:126507e7-a5df-421f-ac6d-9c2baa8cebcf
DTSTAMP:20260424T142312Z
DESCRIPTION:7 October 1918: First in the 'Lakes' series of field codes\, 'C
 hamplain\,' was released.
DTSTART;TZID=America/New_York:20261007T000000
DTEND;TZID=America/New_York:20261007T235900
LOCATION:
SUMMARY:1918: 'Champlain' Field Codes Released.
END:VEVENT
END:VCALENDAR
