BEGIN:VCALENDAR
VERSION:2.0
PRODID:-//archive.cryptologicfoundation.org//NONSGML kigkonsult.se iCalcrea
 tor 2.30.10//
CALSCALE:GREGORIAN
METHOD:PUBLISH
UID:4913bd64-7ab7-4e78-9492-fe664f0dc4fd
X-WR-CALDESC:7 October 1952: USAF RB-29\, nicknamed 'Sunbonnet\,' was on a 
 routine flight and was shot down by Soviet fighters off the east coast of 
 Japan’s northernmost island Hokkaido\, near the tip of the Kurile Island c
 hain. Eight crewmen were lost.
X-WR-RELCALID:6a26b458d995b664155ad0365a86cfe3
X-WR-TIMEZONE:America/New_York
BEGIN:VTIMEZONE
TZID:America/New_York
BEGIN:STANDARD
TZNAME:EST
DTSTART:20251102T020000
TZOFFSETFROM:-0400
TZOFFSETTO:-0500
RDATE:20261101T020000
RDATE:20271107T020000
END:STANDARD
BEGIN:DAYLIGHT
TZNAME:EDT
DTSTART:20260308T020000
TZOFFSETFROM:-0500
TZOFFSETTO:-0400
RDATE:20270314T020000
RDATE:20280312T020000
END:DAYLIGHT
END:VTIMEZONE
BEGIN:VEVENT
UID:010220dd-3081-49a8-b517-3266ccfb8494
DTSTAMP:20260424T142815Z
DESCRIPTION:7 October 1952: USAF RB-29\, nicknamed 'Sunbonnet\,' was on a r
 outine flight and was shot down by Soviet fighters off the east coast of J
 apan’s northernmost island Hokkaido\, near the tip of the Kurile Island ch
 ain. Eight crewmen were lost.
DTSTART;TZID=America/New_York:20261007T000000
DTEND;TZID=America/New_York:20261007T235900
LOCATION:
SUMMARY:1952: USAF RB-29 Shot Down
END:VEVENT
END:VCALENDAR
