BEGIN:VCALENDAR
VERSION:2.0
PRODID:-//archive.cryptologicfoundation.org//NONSGML kigkonsult.se iCalcrea
 tor 2.30.10//
CALSCALE:GREGORIAN
METHOD:PUBLISH
UID:53927e57-2ee4-4fcd-a950-663afa4d3268
X-WR-CALDESC:7 October 2001: Operation Enduring Freedom (OEF)\, the initial
  campaign in the U.S.-led Global War on Terror\, began. Operation Enduring
  Freedom was the official name used by the U.S. government for the War in 
 Afghanistan\, together with a number of smaller military actions\, under t
 he umbrella of the Global 'War on Terror' (GWOT).
X-WR-RELCALID:9dbd2c2c34f73683c8ded1d294c4d91f
X-WR-TIMEZONE:America/New_York
BEGIN:VTIMEZONE
TZID:America/New_York
BEGIN:STANDARD
TZNAME:EST
DTSTART:20251102T020000
TZOFFSETFROM:-0400
TZOFFSETTO:-0500
RDATE:20261101T020000
RDATE:20271107T020000
END:STANDARD
BEGIN:DAYLIGHT
TZNAME:EDT
DTSTART:20260308T020000
TZOFFSETFROM:-0500
TZOFFSETTO:-0400
RDATE:20270314T020000
RDATE:20280312T020000
END:DAYLIGHT
END:VTIMEZONE
BEGIN:VEVENT
UID:026d56d2-abb4-49c5-8132-3364d29dd83f
DTSTAMP:20260424T142507Z
DESCRIPTION:7 October 2001: Operation Enduring Freedom (OEF)\, the initial 
 campaign in the U.S.-led Global War on Terror\, began. Operation Enduring 
 Freedom was the official name used by the U.S. government for the War in A
 fghanistan\, together with a number of smaller military actions\, under th
 e umbrella of the Global 'War on Terror' (GWOT).
DTSTART;TZID=America/New_York:20261007T000000
DTEND;TZID=America/New_York:20261007T235900
LOCATION:
SUMMARY:2001: 'Operation Enduring Freedom' Began.
END:VEVENT
END:VCALENDAR
