BEGIN:VCALENDAR
VERSION:2.0
PRODID:-//archive.cryptologicfoundation.org//NONSGML kigkonsult.se iCalcrea
 tor 2.30.10//
CALSCALE:GREGORIAN
METHOD:PUBLISH
UID:3c1b379b-721e-4459-84a7-1a9909cc554b
X-WR-CALDESC:9 October 1985: U.S. fighters (such as the F-14 Tomcat picture
 d here) intercepted the aircraft carrying four terrorists who hijacked the
  cruise ship 'Achille Lauro' on 7 October 1985.
X-WR-RELCALID:73cc37e10d5f382705b3cc68be8cbc8e
X-WR-TIMEZONE:America/New_York
BEGIN:VTIMEZONE
TZID:America/New_York
BEGIN:STANDARD
TZNAME:EST
DTSTART:20251102T020000
TZOFFSETFROM:-0400
TZOFFSETTO:-0500
RDATE:20261101T020000
RDATE:20271107T020000
END:STANDARD
BEGIN:DAYLIGHT
TZNAME:EDT
DTSTART:20260308T020000
TZOFFSETFROM:-0500
TZOFFSETTO:-0400
RDATE:20270314T020000
RDATE:20280312T020000
END:DAYLIGHT
END:VTIMEZONE
BEGIN:VEVENT
UID:92a50329-ce7f-4082-a64f-13f55dc977cc
DTSTAMP:20260424T143340Z
DESCRIPTION:9 October 1985: U.S. fighters (such as the F-14 Tomcat pictured
  here) intercepted the aircraft carrying four terrorists who hijacked the 
 cruise ship 'Achille Lauro' on 7 October 1985.
DTSTART;TZID=America/New_York:20261009T000000
DTEND;TZID=America/New_York:20261009T235900
LOCATION:
SUMMARY:1985: U.S. Fighters Intercept Terrorists from 'Achille Lauro'
END:VEVENT
END:VCALENDAR
