BEGIN:VCALENDAR
VERSION:2.0
PRODID:-//archive.cryptologicfoundation.org//NONSGML kigkonsult.se iCalcrea
 tor 2.30.10//
CALSCALE:GREGORIAN
METHOD:PUBLISH
UID:b9dadf73-b90b-4267-a4bf-050ded6c81f2
X-WR-CALDESC:12 October 1955: William Friedman was awarded the National Sec
 urity Medal by Director of Central Intelligence Allen Dulles. The medal wa
 s the highest decoration for distinguished achievement related to the nati
 onal intelligence effort\, and was the sixth to be awarded since its creat
 ion in 1953. Frank B. Rowlett\, who was hired by Friedman as a junior cryp
 tanalyst for the SIS in 1930\, was a recipient of the National Security Me
 dal in 1965.\n\nPhoto courtesy of the George C. Marshall Foundation
X-WR-RELCALID:5142808994c5fff7d44028738d4a1cd6
X-WR-TIMEZONE:America/New_York
BEGIN:VTIMEZONE
TZID:America/New_York
BEGIN:STANDARD
TZNAME:EST
DTSTART:20251102T020000
TZOFFSETFROM:-0400
TZOFFSETTO:-0500
RDATE:20261101T020000
RDATE:20271107T020000
END:STANDARD
BEGIN:DAYLIGHT
TZNAME:EDT
DTSTART:20260308T020000
TZOFFSETFROM:-0500
TZOFFSETTO:-0400
RDATE:20270314T020000
RDATE:20280312T020000
END:DAYLIGHT
END:VTIMEZONE
BEGIN:VEVENT
UID:e4eb3ce3-9e7a-4eca-93cb-40762961fac7
DTSTAMP:20260424T143000Z
DESCRIPTION:12 October 1955: William Friedman was awarded the National Secu
 rity Medal by Director of Central Intelligence Allen Dulles. The medal was
  the highest decoration for distinguished achievement related to the natio
 nal intelligence effort\, and was the sixth to be awarded since its creati
 on in 1953. Frank B. Rowlett\, who was hired by Friedman as a junior crypt
 analyst for the SIS in 1930\, was a recipient of the National Security Med
 al in 1965.\n\nPhoto courtesy of the George C. Marshall Foundation
DTSTART;TZID=America/New_York:20261012T000000
DTEND;TZID=America/New_York:20261012T235900
LOCATION:
SUMMARY:1955: William Friedman Awarded National Security Medal
END:VEVENT
END:VCALENDAR
