BEGIN:VCALENDAR
VERSION:2.0
PRODID:-//archive.cryptologicfoundation.org//NONSGML kigkonsult.se iCalcrea
 tor 2.30.10//
CALSCALE:GREGORIAN
METHOD:PUBLISH
UID:026bcef6-3938-4072-892e-262e57bfa854
X-WR-CALDESC:On October 12\, 2000\, suicide terrorists exploded a small boa
 t alongside the USS Cole—a Navy Destroyer—as it was refueling in the Yemen
 i port of Aden. The blast ripped a 40-foot-wide hole near the waterline of
  the Cole\, killing 17 American sailors and injuring many more. An FBI inv
 estigation determined Al-Qaeda terrorists planned and carried out the atta
 ck.\n
X-WR-RELCALID:fc4d7d998d16b6299fced6d8d2bbfb84
X-WR-TIMEZONE:America/New_York
BEGIN:VTIMEZONE
TZID:America/New_York
BEGIN:STANDARD
TZNAME:EST
DTSTART:20251102T020000
TZOFFSETFROM:-0400
TZOFFSETTO:-0500
RDATE:20261101T020000
RDATE:20271107T020000
END:STANDARD
BEGIN:DAYLIGHT
TZNAME:EDT
DTSTART:20260308T020000
TZOFFSETFROM:-0500
TZOFFSETTO:-0400
RDATE:20270314T020000
RDATE:20280312T020000
END:DAYLIGHT
END:VTIMEZONE
BEGIN:VEVENT
UID:b1d3ffb2-80c4-4e26-add3-830ee67f25c6
DTSTAMP:20260424T143130Z
DESCRIPTION:On October 12\, 2000\, suicide terrorists exploded a small boat
  alongside the USS Cole—a Navy Destroyer—as it was refueling in the Yemeni
  port of Aden. The blast ripped a 40-foot-wide hole near the waterline of 
 the Cole\, killing 17 American sailors and injuring many more. An FBI inve
 stigation determined Al-Qaeda terrorists planned and carried out the attac
 k.\n
DTSTART;TZID=America/New_York:20261012T000000
DTEND;TZID=America/New_York:20261012T235900
LOCATION:
SUMMARY:2000: al-Qaeda Bomed the USS Cole
END:VEVENT
END:VCALENDAR
