BEGIN:VCALENDAR
VERSION:2.0
PRODID:-//archive.cryptologicfoundation.org//NONSGML kigkonsult.se iCalcrea
 tor 2.30.10//
CALSCALE:GREGORIAN
METHOD:PUBLISH
UID:f4a92393-87ad-47a2-8d0a-f8dfef287cda
X-WR-CALDESC:17 October 1907: Guglielmo Marconi officially opens the first 
 commercial transatlantic wireless telegraph service\, which runs between N
 ova Scotia and Ireland. (Image courtesy of <a href='http://thisdayintechhi
 story.com/10/17/first-transatlantic-wireless-telegraph-service/'>www.thisd
 ayintechhistory.com</a>)
X-WR-RELCALID:fabc48e00e3a152305b6962b74d23cd1
X-WR-TIMEZONE:America/New_York
BEGIN:VTIMEZONE
TZID:America/New_York
BEGIN:STANDARD
TZNAME:EST
DTSTART:20251102T020000
TZOFFSETFROM:-0400
TZOFFSETTO:-0500
RDATE:20261101T020000
RDATE:20271107T020000
END:STANDARD
BEGIN:DAYLIGHT
TZNAME:EDT
DTSTART:20260308T020000
TZOFFSETFROM:-0500
TZOFFSETTO:-0400
RDATE:20270314T020000
RDATE:20280312T020000
END:DAYLIGHT
END:VTIMEZONE
BEGIN:VEVENT
UID:d38bf3c0-8a3a-435c-80b5-2f8fc5fea452
DTSTAMP:20260424T142550Z
DESCRIPTION:17 October 1907: Guglielmo Marconi officially opens the first c
 ommercial transatlantic wireless telegraph service\, which runs between No
 va Scotia and Ireland. (Image courtesy of <a href='http://thisdayintechhis
 tory.com/10/17/first-transatlantic-wireless-telegraph-service/'>www.thisda
 yintechhistory.com</a>)
DTSTART;TZID=America/New_York:20261017T000000
DTEND;TZID=America/New_York:20261017T235900
LOCATION:
SUMMARY:1907: First Commercial Transatlantic Wireless Service
END:VEVENT
END:VCALENDAR
