BEGIN:VCALENDAR
VERSION:2.0
PRODID:-//archive.cryptologicfoundation.org//NONSGML kigkonsult.se iCalcrea
 tor 2.30.10//
CALSCALE:GREGORIAN
METHOD:PUBLISH
UID:150215d9-64be-470a-b0c2-613392b49421
X-WR-CALDESC:19 October 1875: Charles Wheatstone\, inventor of the Playfair
  Cipher and the Wheatstone Cryptograph\, died. The Playfair Cipher is a ma
 nual symmetric encryption technique and was the first literal digraph subs
 titution cipher. The Wheatstone Cryptograph was a pre WW I-era cipher devi
 ce used extensively by the British during WW I. Learn more about it <a hre
 f='https://cryptologicfoundation.org/community/museum-support/acquisitions
 /acquisitionarchivessection/codeandcipher_items/wheatstone_cryptograph.htm
 l'>HERE</a>.
X-WR-RELCALID:5cee9e9c8449507ebd4c7c37ef9652b0
X-WR-TIMEZONE:America/New_York
BEGIN:VTIMEZONE
TZID:America/New_York
BEGIN:STANDARD
TZNAME:EST
DTSTART:20251102T020000
TZOFFSETFROM:-0400
TZOFFSETTO:-0500
RDATE:20261101T020000
RDATE:20271107T020000
END:STANDARD
BEGIN:DAYLIGHT
TZNAME:EDT
DTSTART:20260308T020000
TZOFFSETFROM:-0500
TZOFFSETTO:-0400
RDATE:20270314T020000
RDATE:20280312T020000
END:DAYLIGHT
END:VTIMEZONE
BEGIN:VEVENT
UID:553e1247-033d-4ff4-b176-8afc8fb7d3f1
DTSTAMP:20260424T142815Z
DESCRIPTION:19 October 1875: Charles Wheatstone\, inventor of the Playfair 
 Cipher and the Wheatstone Cryptograph\, died. The Playfair Cipher is a man
 ual symmetric encryption technique and was the first literal digraph subst
 itution cipher. The Wheatstone Cryptograph was a pre WW I-era cipher devic
 e used extensively by the British during WW I. Learn more about it <a href
 ='https://cryptologicfoundation.org/community/museum-support/acquisitions/
 acquisitionarchivessection/codeandcipher_items/wheatstone_cryptograph.html
 '>HERE</a>.
DTSTART;TZID=America/New_York:20261019T000000
DTEND;TZID=America/New_York:20261019T235900
LOCATION:
SUMMARY:1875: Charles Wheatstone Died.
END:VEVENT
END:VCALENDAR
