BEGIN:VCALENDAR
VERSION:2.0
PRODID:-//archive.cryptologicfoundation.org//NONSGML kigkonsult.se iCalcrea
 tor 2.30.10//
CALSCALE:GREGORIAN
METHOD:PUBLISH
UID:33711f71-723f-46bf-ad1a-9dfc01b43e64
X-WR-CALDESC:20 October 1948: The USAF Security Service was established.
X-WR-RELCALID:4de5490d0baa1531ced07772193cbc8f
X-WR-TIMEZONE:America/New_York
BEGIN:VTIMEZONE
TZID:America/New_York
BEGIN:STANDARD
TZNAME:EST
DTSTART:20251102T020000
TZOFFSETFROM:-0400
TZOFFSETTO:-0500
RDATE:20261101T020000
RDATE:20271107T020000
END:STANDARD
BEGIN:DAYLIGHT
TZNAME:EDT
DTSTART:20260308T020000
TZOFFSETFROM:-0500
TZOFFSETTO:-0400
RDATE:20270314T020000
RDATE:20280312T020000
END:DAYLIGHT
END:VTIMEZONE
BEGIN:VEVENT
UID:7a4e0d6a-0061-45c3-bec9-5aeea836dab6
DTSTAMP:20260424T142435Z
DESCRIPTION:20 October 1948: The USAF Security Service was established.
DTSTART;TZID=America/New_York:20261020T000000
DTEND;TZID=America/New_York:20261020T235900
LOCATION:
SUMMARY:1948: Air Force Security Service Established
END:VEVENT
END:VCALENDAR
