BEGIN:VCALENDAR
VERSION:2.0
PRODID:-//archive.cryptologicfoundation.org//NONSGML kigkonsult.se iCalcrea
 tor 2.30.10//
CALSCALE:GREGORIAN
METHOD:PUBLISH
UID:cadb877b-d8ea-4858-b611-baf659ac74dc
X-WR-CALDESC:20 October 1981: The United States' President's Foreign Intell
 igence Advisory Board was re-established.
X-WR-RELCALID:39fd86e405135809093977731f6cd5a4
X-WR-TIMEZONE:America/New_York
BEGIN:VTIMEZONE
TZID:America/New_York
BEGIN:STANDARD
TZNAME:EST
DTSTART:20251102T020000
TZOFFSETFROM:-0400
TZOFFSETTO:-0500
RDATE:20261101T020000
RDATE:20271107T020000
END:STANDARD
BEGIN:DAYLIGHT
TZNAME:EDT
DTSTART:20260308T020000
TZOFFSETFROM:-0500
TZOFFSETTO:-0400
RDATE:20270314T020000
RDATE:20280312T020000
END:DAYLIGHT
END:VTIMEZONE
BEGIN:VEVENT
UID:13ff2ec5-eeee-4097-93c5-c29de84a5ca5
DTSTAMP:20260424T142446Z
DESCRIPTION:20 October 1981: The United States' President's Foreign Intelli
 gence Advisory Board was re-established.
DTSTART;TZID=America/New_York:20261020T000000
DTEND;TZID=America/New_York:20261020T235900
LOCATION:
SUMMARY:1981: Foreign Intelligence Advisory Board Re-established.
END:VEVENT
END:VCALENDAR
