BEGIN:VCALENDAR
VERSION:2.0
PRODID:-//archive.cryptologicfoundation.org//NONSGML kigkonsult.se iCalcrea
 tor 2.30.10//
CALSCALE:GREGORIAN
METHOD:PUBLISH
UID:e03e133a-599f-4275-8594-74aef8c9b48f
X-WR-CALDESC:President Kennedy ordered a naval quarantine of Cuba after int
 elligence discovered offensive missile sites on the island #OTD in 1962. T
 he Cuban Missile Crisis highlighted the importance of direct communication
  between nuclear powers. One of the outcomes of the crisis was the install
 ation of a “Hotline” between Washington and Moscow. The original Washingto
 n-to-Moscow Hotline was a one-time tape/teletype system for which the Sovi
 ets and Americans exchanged compatible equipment. \n\nPictured here is the
  East German T63-SU12 teleprinter with an encryptor system\, which was use
 d as part of the hotline from 1963 to 1980. Learn more about the hotline v
 ia the link below to the NCM's Virmuze virtual museum.
X-WR-RELCALID:eb49b603d052ade0930d9966560211fc
X-WR-TIMEZONE:America/New_York
BEGIN:VTIMEZONE
TZID:America/New_York
BEGIN:STANDARD
TZNAME:EST
DTSTART:20251102T020000
TZOFFSETFROM:-0400
TZOFFSETTO:-0500
RDATE:20261101T020000
RDATE:20271107T020000
END:STANDARD
BEGIN:DAYLIGHT
TZNAME:EDT
DTSTART:20260308T020000
TZOFFSETFROM:-0500
TZOFFSETTO:-0400
RDATE:20270314T020000
RDATE:20280312T020000
END:DAYLIGHT
END:VTIMEZONE
BEGIN:VEVENT
UID:67ed567c-ad1e-4fb8-81bf-848cab8e9415
DTSTAMP:20260424T143320Z
DESCRIPTION:President Kennedy ordered a naval quarantine of Cuba after inte
 lligence discovered offensive missile sites on the island #OTD in 1962. Th
 e Cuban Missile Crisis highlighted the importance of direct communication 
 between nuclear powers. One of the outcomes of the crisis was the installa
 tion of a “Hotline” between Washington and Moscow. The original Washington
 -to-Moscow Hotline was a one-time tape/teletype system for which the Sovie
 ts and Americans exchanged compatible equipment. \n\nPictured here is the 
 East German T63-SU12 teleprinter with an encryptor system\, which was used
  as part of the hotline from 1963 to 1980. Learn more about the hotline vi
 a the link below to the NCM's Virmuze virtual museum.
DTSTART;TZID=America/New_York:20261021T000000
DTEND;TZID=America/New_York:20261021T235900
LOCATION:
SUMMARY:1962: President Kennedy ordered a naval quarantine of Cuba
END:VEVENT
END:VCALENDAR
