BEGIN:VCALENDAR
VERSION:2.0
PRODID:-//archive.cryptologicfoundation.org//NONSGML kigkonsult.se iCalcrea
 tor 2.30.10//
CALSCALE:GREGORIAN
METHOD:PUBLISH
UID:0104534a-3b43-4bff-be6d-9ff353000de6
X-WR-CALDESC:The United Nations officially came into existence #OTD in 1945
  when the charter had been ratified by a majority of signatories. Pictured
  here is the U.S. Ambassador to the United Nations Adlai E. Stevenson II u
 sing the KY-3 secure voice encryption system in his U.N. office. \n\nLearn
  more about secure phones via the link below.
X-WR-RELCALID:121fbe659a3496871629e06a4b56e158
X-WR-TIMEZONE:America/New_York
BEGIN:VTIMEZONE
TZID:America/New_York
BEGIN:STANDARD
TZNAME:EST
DTSTART:20251102T020000
TZOFFSETFROM:-0400
TZOFFSETTO:-0500
RDATE:20261101T020000
RDATE:20271107T020000
END:STANDARD
BEGIN:DAYLIGHT
TZNAME:EDT
DTSTART:20260308T020000
TZOFFSETFROM:-0500
TZOFFSETTO:-0400
RDATE:20270314T020000
RDATE:20280312T020000
END:DAYLIGHT
END:VTIMEZONE
BEGIN:VEVENT
UID:2ce8b428-7ce0-4f34-9225-e15bdd10ff85
DTSTAMP:20260424T142919Z
DESCRIPTION:The United Nations officially came into existence #OTD in 1945 
 when the charter had been ratified by a majority of signatories. Pictured 
 here is the U.S. Ambassador to the United Nations Adlai E. Stevenson II us
 ing the KY-3 secure voice encryption system in his U.N. office. \n\nLearn 
 more about secure phones via the link below.
DTSTART;TZID=America/New_York:20261024T000000
DTEND;TZID=America/New_York:20261024T235900
LOCATION:
SUMMARY:1945: United Nations came into existence.
END:VEVENT
END:VCALENDAR
