BEGIN:VCALENDAR
VERSION:2.0
PRODID:-//archive.cryptologicfoundation.org//NONSGML kigkonsult.se iCalcrea
 tor 2.30.10//
CALSCALE:GREGORIAN
METHOD:PUBLISH
UID:b042b8b9-01ae-4d4b-b0c8-6d8cc7e1320e
X-WR-CALDESC:24 October 1957: Dr James Killian submitted an influential rep
 ort on defense and intelligence to the president of the U.S. with recommen
 dations on how NSA could remain productive in COMINT. Dr. Killian was the 
 first presidential science advisor and oversaw the creation of the Preside
 ntial Scientific Advisory Committee. In the photo: Dr. Killian is sworn in
  as the first scientific advisor to the U.S. president.
X-WR-RELCALID:0e97f257593c2c643a1816d6fecf9c2d
X-WR-TIMEZONE:America/New_York
BEGIN:VTIMEZONE
TZID:America/New_York
BEGIN:STANDARD
TZNAME:EST
DTSTART:20251102T020000
TZOFFSETFROM:-0400
TZOFFSETTO:-0500
RDATE:20261101T020000
RDATE:20271107T020000
END:STANDARD
BEGIN:DAYLIGHT
TZNAME:EDT
DTSTART:20260308T020000
TZOFFSETFROM:-0500
TZOFFSETTO:-0400
RDATE:20270314T020000
RDATE:20280312T020000
END:DAYLIGHT
END:VTIMEZONE
BEGIN:VEVENT
UID:6447dc9e-f450-4473-ab34-7e836e4fd3ac
DTSTAMP:20260424T143207Z
DESCRIPTION:24 October 1957: Dr James Killian submitted an influential repo
 rt on defense and intelligence to the president of the U.S. with recommend
 ations on how NSA could remain productive in COMINT. Dr. Killian was the f
 irst presidential science advisor and oversaw the creation of the Presiden
 tial Scientific Advisory Committee. In the photo: Dr. Killian is sworn in 
 as the first scientific advisor to the U.S. president.
DTSTART;TZID=America/New_York:20261024T000000
DTEND;TZID=America/New_York:20261024T235900
LOCATION:
SUMMARY:1957: Dr. James Killian Submits Influential Report on Defense and I
 ntelligence
END:VEVENT
END:VCALENDAR
