BEGIN:VCALENDAR
VERSION:2.0
PRODID:-//archive.cryptologicfoundation.org//NONSGML kigkonsult.se iCalcrea
 tor 2.30.10//
CALSCALE:GREGORIAN
METHOD:PUBLISH
UID:436b9453-8e0a-42bd-99b6-c6fcec479c71
X-WR-CALDESC:25 October 1983:  U.S. forces landed in Grenada during Operati
 on Urgent Fury. Triggered by the house arrest and murder of the leader of 
 the coup which had brought a revolutionary government to power for the pre
 ceding four years\, the invasion resulted in a restoration of the pre-revo
 lutionary regime.
X-WR-RELCALID:455436721b26e543001aceabc0b55c06
X-WR-TIMEZONE:America/New_York
BEGIN:VTIMEZONE
TZID:America/New_York
BEGIN:STANDARD
TZNAME:EST
DTSTART:20251102T020000
TZOFFSETFROM:-0400
TZOFFSETTO:-0500
RDATE:20261101T020000
RDATE:20271107T020000
END:STANDARD
BEGIN:DAYLIGHT
TZNAME:EDT
DTSTART:20260308T020000
TZOFFSETFROM:-0500
TZOFFSETTO:-0400
RDATE:20270314T020000
RDATE:20280312T020000
END:DAYLIGHT
END:VTIMEZONE
BEGIN:VEVENT
UID:380c7df1-433d-4f90-98cb-1fd238cfb677
DTSTAMP:20260424T143340Z
DESCRIPTION:25 October 1983:  U.S. forces landed in Grenada during Operatio
 n Urgent Fury. Triggered by the house arrest and murder of the leader of t
 he coup which had brought a revolutionary government to power for the prec
 eding four years\, the invasion resulted in a restoration of the pre-revol
 utionary regime.
DTSTART;TZID=America/New_York:20261025T000000
DTEND;TZID=America/New_York:20261025T235900
LOCATION:
SUMMARY:1983: U.S. Forces Landed in Grenada During Operation Urgent Fury
END:VEVENT
END:VCALENDAR
