BEGIN:VCALENDAR
VERSION:2.0
PRODID:-//archive.cryptologicfoundation.org//NONSGML kigkonsult.se iCalcrea
 tor 2.30.10//
CALSCALE:GREGORIAN
METHOD:PUBLISH
UID:b5a72731-6cd3-4b3d-9e46-5c711ed27813
X-WR-CALDESC:26 October 1918: First combat employment of Native American (C
 hoctaw) Code Talkers. \n\nNative American Code Talkers were awarded the NS
 A's highest honor by being inducted as a group into the NSA Cryptologic Ha
 ll of Honor in 2013. Read more on their NSA Hall of Honor page via the lin
 k below. In December 2014\, the NCM's Native American Code Talker exhibit 
 was updated. Learn more about the exhibit and the Code Talkers' honors via
  the additional link below.
X-WR-RELCALID:9c3b30dcddd9c9d56bf451a3a8b7ee97
X-WR-TIMEZONE:America/New_York
BEGIN:VTIMEZONE
TZID:America/New_York
BEGIN:STANDARD
TZNAME:EST
DTSTART:20251102T020000
TZOFFSETFROM:-0400
TZOFFSETTO:-0500
RDATE:20261101T020000
RDATE:20271107T020000
END:STANDARD
BEGIN:DAYLIGHT
TZNAME:EDT
DTSTART:20260308T020000
TZOFFSETFROM:-0500
TZOFFSETTO:-0400
RDATE:20270314T020000
RDATE:20280312T020000
END:DAYLIGHT
END:VTIMEZONE
BEGIN:VEVENT
UID:55c8a283-be91-4a81-91ac-e0e7237ee176
DTSTAMP:20260424T143238Z
DESCRIPTION:26 October 1918: First combat employment of Native American (Ch
 octaw) Code Talkers. \n\nNative American Code Talkers were awarded the NSA
 's highest honor by being inducted as a group into the NSA Cryptologic Hal
 l of Honor in 2013. Read more on their NSA Hall of Honor page via the link
  below. In December 2014\, the NCM's Native American Code Talker exhibit w
 as updated. Learn more about the exhibit and the Code Talkers' honors via 
 the additional link below.
DTSTART;TZID=America/New_York:20261026T000000
DTEND;TZID=America/New_York:20261026T235900
LOCATION:
SUMMARY:1918: First Combat Employment of Choctaw Codetalkers
END:VEVENT
END:VCALENDAR
