BEGIN:VCALENDAR
VERSION:2.0
PRODID:-//archive.cryptologicfoundation.org//NONSGML kigkonsult.se iCalcrea
 tor 2.30.10//
CALSCALE:GREGORIAN
METHOD:PUBLISH
UID:ab8bb4b7-eee8-46ff-a7be-6b7dc1412c67
X-WR-CALDESC:26 October 2010: On this day in 2010 - the National Cryptologi
 c Museum (NCM) recognized Dr. David Kahn for contributing his collection t
 o the NCM's Library. Despite the National Security Agency’s early efforts 
 to sideline David Kahn’s work\, by the 1990s\, it had come to respect him 
 for advancing the field of cryptology. In 1993\, NSA invited Dr. Kahn to b
 e its scholar in residence. In 2020\, Kahn was named to the NSA/CSS Crypto
 logic Hall of Honor. \n\nExplore Dr. Kahn's many donations of cryptologic 
 artifacts via our Special Acquisitions link below.\n\nLearn more about the
  National Cryptologic Library via the link below.
X-WR-RELCALID:e0634a5c2a008ffdca83f4a1e696e98e
X-WR-TIMEZONE:America/New_York
BEGIN:VTIMEZONE
TZID:America/New_York
BEGIN:STANDARD
TZNAME:EST
DTSTART:20251102T020000
TZOFFSETFROM:-0400
TZOFFSETTO:-0500
RDATE:20261101T020000
RDATE:20271107T020000
END:STANDARD
BEGIN:DAYLIGHT
TZNAME:EDT
DTSTART:20260308T020000
TZOFFSETFROM:-0500
TZOFFSETTO:-0400
RDATE:20270314T020000
RDATE:20280312T020000
END:DAYLIGHT
END:VTIMEZONE
BEGIN:VEVENT
UID:06e27646-44b5-4a97-bc2a-0e3ab55d434b
DTSTAMP:20260424T142507Z
DESCRIPTION:26 October 2010: On this day in 2010 - the National Cryptologic
  Museum (NCM) recognized Dr. David Kahn for contributing his collection to
  the NCM's Library. Despite the National Security Agency’s early efforts t
 o sideline David Kahn’s work\, by the 1990s\, it had come to respect him f
 or advancing the field of cryptology. In 1993\, NSA invited Dr. Kahn to be
  its scholar in residence. In 2020\, Kahn was named to the NSA/CSS Cryptol
 ogic Hall of Honor. \n\nExplore Dr. Kahn's many donations of cryptologic a
 rtifacts via our Special Acquisitions link below.\n\nLearn more about the 
 National Cryptologic Library via the link below.
DTSTART;TZID=America/New_York:20261026T060000
DTEND;TZID=America/New_York:20261026T060001
LOCATION:
SUMMARY:2010: National Cryptologic Museum Recognizes Dr. David Kahn
END:VEVENT
END:VCALENDAR
