BEGIN:VCALENDAR
VERSION:2.0
PRODID:-//archive.cryptologicfoundation.org//NONSGML kigkonsult.se iCalcrea
 tor 2.30.10//
CALSCALE:GREGORIAN
METHOD:PUBLISH
UID:09787f18-6a4e-47ec-837b-499f34ec7567
X-WR-CALDESC:28 October 1861: President Lincoln approved the establishment 
 of the Military Telegraph Department. Pictured here is a Military Telegrap
 h battery wagon\, circa 1864.
X-WR-RELCALID:3104df87c96eb4984067b87873a7344d
X-WR-TIMEZONE:America/New_York
BEGIN:VTIMEZONE
TZID:America/New_York
BEGIN:STANDARD
TZNAME:EST
DTSTART:20251102T020000
TZOFFSETFROM:-0400
TZOFFSETTO:-0500
RDATE:20261101T020000
RDATE:20271107T020000
END:STANDARD
BEGIN:DAYLIGHT
TZNAME:EDT
DTSTART:20260308T020000
TZOFFSETFROM:-0500
TZOFFSETTO:-0400
RDATE:20270314T020000
RDATE:20280312T020000
END:DAYLIGHT
END:VTIMEZONE
BEGIN:VEVENT
UID:2aa3d72e-cb35-4c70-a31b-c0fa0a5ce1d1
DTSTAMP:20260424T143348Z
DESCRIPTION:28 October 1861: President Lincoln approved the establishment o
 f the Military Telegraph Department. Pictured here is a Military Telegraph
  battery wagon\, circa 1864.
DTSTART;TZID=America/New_York:20261028T000000
DTEND;TZID=America/New_York:20261028T235900
LOCATION:
SUMMARY:1861: Lincoln Approved Military Telegraph Department
END:VEVENT
END:VCALENDAR
