BEGIN:VCALENDAR
VERSION:2.0
PRODID:-//archive.cryptologicfoundation.org//NONSGML kigkonsult.se iCalcrea
 tor 2.30.10//
CALSCALE:GREGORIAN
METHOD:PUBLISH
UID:fb3fc7c7-a5bb-4a1b-a907-b7391ceea913
X-WR-CALDESC:28 October 1918: The 'Osage' field code was released.
X-WR-RELCALID:76deb763327490cf08ca628b8e99081b
X-WR-TIMEZONE:America/New_York
BEGIN:VTIMEZONE
TZID:America/New_York
BEGIN:STANDARD
TZNAME:EST
DTSTART:20251102T020000
TZOFFSETFROM:-0400
TZOFFSETTO:-0500
RDATE:20261101T020000
RDATE:20271107T020000
END:STANDARD
BEGIN:DAYLIGHT
TZNAME:EDT
DTSTART:20260308T020000
TZOFFSETFROM:-0500
TZOFFSETTO:-0400
RDATE:20270314T020000
RDATE:20280312T020000
END:DAYLIGHT
END:VTIMEZONE
BEGIN:VEVENT
UID:ae82b6c4-2602-4b42-bc0c-944f88c68dcf
DTSTAMP:20260424T142328Z
DESCRIPTION:28 October 1918: The 'Osage' field code was released.
DTSTART;TZID=America/New_York:20261028T000000
DTEND;TZID=America/New_York:20261028T235900
LOCATION:
SUMMARY:1918: The 'Osage' Field Code Was Released.
END:VEVENT
END:VCALENDAR
