BEGIN:VCALENDAR
VERSION:2.0
PRODID:-//archive.cryptologicfoundation.org//NONSGML kigkonsult.se iCalcrea
 tor 2.30.10//
CALSCALE:GREGORIAN
METHOD:PUBLISH
UID:0d5fc6d5-0f19-4c16-a325-14a3e0d3ff43
X-WR-CALDESC:29 October 1917: First U.S. intercept in France in World War O
 ne.
X-WR-RELCALID:12b6677c1f28f38f977a9c942ee09e85
X-WR-TIMEZONE:America/New_York
BEGIN:VTIMEZONE
TZID:America/New_York
BEGIN:STANDARD
TZNAME:EST
DTSTART:20251102T020000
TZOFFSETFROM:-0400
TZOFFSETTO:-0500
RDATE:20261101T020000
RDATE:20271107T020000
END:STANDARD
BEGIN:DAYLIGHT
TZNAME:EDT
DTSTART:20260308T020000
TZOFFSETFROM:-0500
TZOFFSETTO:-0400
RDATE:20270314T020000
RDATE:20280312T020000
END:DAYLIGHT
END:VTIMEZONE
BEGIN:VEVENT
UID:61f12fad-e173-408b-a147-133b87ffb123
DTSTAMP:20260424T143525Z
DESCRIPTION:29 October 1917: First U.S. intercept in France in World War On
 e.
DTSTART;TZID=America/New_York:20261029T000000
DTEND;TZID=America/New_York:20261029T235900
LOCATION:
SUMMARY:1917: First U.S. Intercept in France in WWI
END:VEVENT
END:VCALENDAR
