BEGIN:VCALENDAR
VERSION:2.0
PRODID:-//archive.cryptologicfoundation.org//NONSGML kigkonsult.se iCalcrea
 tor 2.30.10//
CALSCALE:GREGORIAN
METHOD:PUBLISH
UID:9f9a32b5-5866-4b68-af72-3a089f280e82
X-WR-CALDESC:30 October 1992:  The NSA's Center for Cryptologic History pub
 lished\, 'The Friedman Legacy: A Tribute to William and Elizebeth Friedman
 ' which includes transcripts of the famed 'Friedman Lectures.' To listen t
 o the audio collection or view transcripts\, click the links below.
X-WR-RELCALID:d04397c9005e69c9afb318361900d51b
X-WR-TIMEZONE:America/New_York
BEGIN:VTIMEZONE
TZID:America/New_York
BEGIN:STANDARD
TZNAME:EST
DTSTART:20251102T020000
TZOFFSETFROM:-0400
TZOFFSETTO:-0500
RDATE:20261101T020000
RDATE:20271107T020000
END:STANDARD
BEGIN:DAYLIGHT
TZNAME:EDT
DTSTART:20260308T020000
TZOFFSETFROM:-0500
TZOFFSETTO:-0400
RDATE:20270314T020000
RDATE:20280312T020000
END:DAYLIGHT
END:VTIMEZONE
BEGIN:VEVENT
UID:cd483766-f21e-4a7d-9481-9458afe45943
DTSTAMP:20260424T142738Z
DESCRIPTION:30 October 1992:  The NSA's Center for Cryptologic History publ
 ished\, 'The Friedman Legacy: A Tribute to William and Elizebeth Friedman'
  which includes transcripts of the famed 'Friedman Lectures.' To listen to
  the audio collection or view transcripts\, click the links below.
DTSTART;TZID=America/New_York:20261030T000000
DTEND;TZID=America/New_York:20261030T235900
LOCATION:
SUMMARY:1992: Center for Cryptologic History Published 'The Friedman Legacy
 '
END:VEVENT
END:VCALENDAR
