BEGIN:VCALENDAR
VERSION:2.0
PRODID:-//archive.cryptologicfoundation.org//NONSGML kigkonsult.se iCalcrea
 tor 2.30.10//
CALSCALE:GREGORIAN
METHOD:PUBLISH
UID:9d8fc840-1906-434e-8e63-50f81617a44b
X-WR-CALDESC:1 November 1942: COMINT station established on Guadalcanal.  T
 he station was a small but efficient intercept\, direction finder\, traffi
 c analysis\, cryptanalysis and reporting station that was operational duri
 ng the early hectic days of World War II. It was established on Guadalcana
 l amidst the heavy fighting there.
X-WR-RELCALID:caa7a8ec6662f25e86093fbf825efb8c
X-WR-TIMEZONE:America/New_York
BEGIN:VTIMEZONE
TZID:America/New_York
BEGIN:STANDARD
TZNAME:EST
DTSTART:20251102T020000
TZOFFSETFROM:-0400
TZOFFSETTO:-0500
RDATE:20261101T020000
RDATE:20271107T020000
END:STANDARD
BEGIN:DAYLIGHT
TZNAME:EDT
DTSTART:20260308T020000
TZOFFSETFROM:-0500
TZOFFSETTO:-0400
RDATE:20270314T020000
RDATE:20280312T020000
END:DAYLIGHT
END:VTIMEZONE
BEGIN:VEVENT
UID:d00013af-b82f-4967-9d28-b103ee72ccbd
DTSTAMP:20260424T160835Z
DESCRIPTION:1 November 1942: COMINT station established on Guadalcanal.  Th
 e station was a small but efficient intercept\, direction finder\, traffic
  analysis\, cryptanalysis and reporting station that was operational durin
 g the early hectic days of World War II. It was established on Guadalcanal
  amidst the heavy fighting there.
DTSTART;TZID=America/New_York:20261101T000000
DTEND;TZID=America/New_York:20261101T235900
LOCATION:
SUMMARY:1942 COMINT Station Established on Guadalcanal
END:VEVENT
END:VCALENDAR
