BEGIN:VCALENDAR
VERSION:2.0
PRODID:-//archive.cryptologicfoundation.org//NONSGML kigkonsult.se iCalcrea
 tor 2.30.10//
CALSCALE:GREGORIAN
METHOD:PUBLISH
UID:16a7bb65-d4b0-4d3b-a259-59eb3ae1ac4a
X-WR-CALDESC:2 Nov 1969: American Cryptologic Pioneer William Friedman died
 . On 23 April 2015\, the National Security Agency released over 52\,000 pa
 ges of historical material related to the career of pioneer cryptologist W
 illiam F. Friedman. This collection\, composed of over 52\,000 pages in mo
 re than 7\,600 documents (along with some sound recordings and photographs
 )\, has been preserved in the NSA Archives for its historic significance a
 nd value. The bulk of the material dates from 1930-1955 and represents Mr.
  Friedman’s work at the Signals Intelligence Service\, the Signal Security
  Agency\, the Armed Forces Security Agency\, and NSA. Search the full Frie
 dman Collection online (and Friedman lectures) via the NSA website - see l
 inks below.\n\nRead about William Friedman's accomplishments in his NSA Cr
 yptologic Hall of Honor entry via the link below.
X-WR-RELCALID:88eeb82682df546a2a80a143bbb4a9ff
X-WR-TIMEZONE:America/New_York
BEGIN:VTIMEZONE
TZID:America/New_York
BEGIN:STANDARD
TZNAME:EST
DTSTART:20251102T020000
TZOFFSETFROM:-0400
TZOFFSETTO:-0500
RDATE:20261101T020000
RDATE:20271107T020000
END:STANDARD
BEGIN:DAYLIGHT
TZNAME:EDT
DTSTART:20260308T020000
TZOFFSETFROM:-0500
TZOFFSETTO:-0400
RDATE:20270314T020000
RDATE:20280312T020000
END:DAYLIGHT
END:VTIMEZONE
BEGIN:VEVENT
UID:7f3794e6-02a6-42c0-8d48-04b43ab78010
DTSTAMP:20260424T155714Z
DESCRIPTION:2 Nov 1969: American Cryptologic Pioneer William Friedman died.
  On 23 April 2015\, the National Security Agency released over 52\,000 pag
 es of historical material related to the career of pioneer cryptologist Wi
 lliam F. Friedman. This collection\, composed of over 52\,000 pages in mor
 e than 7\,600 documents (along with some sound recordings and photographs)
 \, has been preserved in the NSA Archives for its historic significance an
 d value. The bulk of the material dates from 1930-1955 and represents Mr. 
 Friedman’s work at the Signals Intelligence Service\, the Signal Security 
 Agency\, the Armed Forces Security Agency\, and NSA. Search the full Fried
 man Collection online (and Friedman lectures) via the NSA website - see li
 nks below.\n\nRead about William Friedman's accomplishments in his NSA Cry
 ptologic Hall of Honor entry via the link below.
DTSTART;TZID=America/New_York:20261102T060000
DTEND;TZID=America/New_York:20261102T060001
LOCATION:
SUMMARY:1969: William Friedman died.
END:VEVENT
END:VCALENDAR
