BEGIN:VCALENDAR
VERSION:2.0
PRODID:-//archive.cryptologicfoundation.org//NONSGML kigkonsult.se iCalcrea
 tor 2.30.10//
CALSCALE:GREGORIAN
METHOD:PUBLISH
UID:56700916-a6be-46af-b2b0-1f571e4c431d
X-WR-CALDESC:6 Nov 1918: 'Seneca' code was released.
X-WR-RELCALID:fa0fd1655aae60ecacac3155fe65b471
X-WR-TIMEZONE:America/New_York
BEGIN:VTIMEZONE
TZID:America/New_York
BEGIN:STANDARD
TZNAME:EST
DTSTART:20261101T020000
TZOFFSETFROM:-0400
TZOFFSETTO:-0500
RDATE:20271107T020000
END:STANDARD
BEGIN:DAYLIGHT
TZNAME:EDT
DTSTART:20260308T020000
TZOFFSETFROM:-0500
TZOFFSETTO:-0400
RDATE:20270314T020000
RDATE:20280312T020000
END:DAYLIGHT
END:VTIMEZONE
BEGIN:VEVENT
UID:1dcc51bd-fdad-4916-afd2-dd7dc75b4dc4
DTSTAMP:20260424T155935Z
DESCRIPTION:6 Nov 1918: 'Seneca' code was released.
DTSTART;TZID=America/New_York:20261106T000000
DTEND;TZID=America/New_York:20261106T235900
LOCATION:
SUMMARY:1918: The 'Seneca' field code was released.
END:VEVENT
END:VCALENDAR
