BEGIN:VCALENDAR
VERSION:2.0
PRODID:-//archive.cryptologicfoundation.org//NONSGML kigkonsult.se iCalcrea
 tor 2.30.10//
CALSCALE:GREGORIAN
METHOD:PUBLISH
UID:526e3533-a7e6-4b93-b660-1deff445c154
X-WR-CALDESC:9 Nov 1895: Ralph J. Canine\, first DIRNSA was born. Lieutenan
 t General Ralph J. Canine\, NSA's first director\, is known today as the G
 reat Unifier - the man who\, almost single-handedly\, forced cryptologic u
 nification on the Services. His term at NSA\, from 1952 to 1956\, became t
 he crucible for cryptologic centralization. He departed the Army and NSA a
  figure of mythic stature. Had Canine not been the director\, NSA might no
 t have survived the end of the decade. Read his full Cryptologic Hall of H
 onor entry via the link below.
X-WR-RELCALID:0fa2c25bf45f5897d8a559979a21912b
X-WR-TIMEZONE:America/New_York
BEGIN:VTIMEZONE
TZID:America/New_York
BEGIN:STANDARD
TZNAME:EST
DTSTART:20261101T020000
TZOFFSETFROM:-0400
TZOFFSETTO:-0500
RDATE:20271107T020000
END:STANDARD
BEGIN:DAYLIGHT
TZNAME:EDT
DTSTART:20260308T020000
TZOFFSETFROM:-0500
TZOFFSETTO:-0400
RDATE:20270314T020000
RDATE:20280312T020000
END:DAYLIGHT
END:VTIMEZONE
BEGIN:VEVENT
UID:d93e9dc1-7382-436a-b125-52a327e481b0
DTSTAMP:20260424T155529Z
DESCRIPTION:9 Nov 1895: Ralph J. Canine\, first DIRNSA was born. Lieutenant
  General Ralph J. Canine\, NSA's first director\, is known today as the Gr
 eat Unifier - the man who\, almost single-handedly\, forced cryptologic un
 ification on the Services. His term at NSA\, from 1952 to 1956\, became th
 e crucible for cryptologic centralization. He departed the Army and NSA a 
 figure of mythic stature. Had Canine not been the director\, NSA might not
  have survived the end of the decade. Read his full Cryptologic Hall of Ho
 nor entry via the link below.
DTSTART;TZID=America/New_York:20261109T060000
DTEND;TZID=America/New_York:20261109T060001
LOCATION:
SUMMARY:1895: Ralph J. Canine\, first DIRNSA was born.
END:VEVENT
END:VCALENDAR
