BEGIN:VCALENDAR
VERSION:2.0
PRODID:-//archive.cryptologicfoundation.org//NONSGML kigkonsult.se iCalcrea
 tor 2.30.10//
CALSCALE:GREGORIAN
METHOD:PUBLISH
UID:fe438061-730c-4b3c-ac46-76c3d18e1950
X-WR-CALDESC:20 Nov 1970: Attempt to rescue POWs from Son Tay\, North Vietn
 am. Tactical SIGINT was superb\, but the POWs were moved before the raid.
X-WR-RELCALID:59a9f3857208918bd055934076553cfa
X-WR-TIMEZONE:America/New_York
BEGIN:VTIMEZONE
TZID:America/New_York
BEGIN:STANDARD
TZNAME:EST
DTSTART:20261101T020000
TZOFFSETFROM:-0400
TZOFFSETTO:-0500
RDATE:20271107T020000
END:STANDARD
BEGIN:DAYLIGHT
TZNAME:EDT
DTSTART:20260308T020000
TZOFFSETFROM:-0500
TZOFFSETTO:-0400
RDATE:20270314T020000
RDATE:20280312T020000
END:DAYLIGHT
END:VTIMEZONE
BEGIN:VEVENT
UID:5ca192b7-34ae-45a2-8704-5b44b9ee3a76
DTSTAMP:20260424T162321Z
DESCRIPTION:20 Nov 1970: Attempt to rescue POWs from Son Tay\, North Vietna
 m. Tactical SIGINT was superb\, but the POWs were moved before the raid.
DTSTART;TZID=America/New_York:20261120T000000
DTEND;TZID=America/New_York:20261120T235900
LOCATION:
SUMMARY:1970: Attempt to rescue POWs from North Vietnam.
END:VEVENT
END:VCALENDAR
