BEGIN:VCALENDAR
VERSION:2.0
PRODID:-//archive.cryptologicfoundation.org//NONSGML kigkonsult.se iCalcrea
 tor 2.30.10//
CALSCALE:GREGORIAN
METHOD:PUBLISH
UID:45ce8e05-1ab1-4ca3-b331-18d25203775b
X-WR-CALDESC:1969: First permanent ARPANET link established.
X-WR-RELCALID:f945d3caa1b3a2b3c8e90535659e4b34
X-WR-TIMEZONE:America/New_York
BEGIN:VTIMEZONE
TZID:America/New_York
BEGIN:STANDARD
TZNAME:EST
DTSTART:20261101T020000
TZOFFSETFROM:-0400
TZOFFSETTO:-0500
RDATE:20271107T020000
END:STANDARD
BEGIN:DAYLIGHT
TZNAME:EDT
DTSTART:20260308T020000
TZOFFSETFROM:-0500
TZOFFSETTO:-0400
RDATE:20270314T020000
RDATE:20280312T020000
END:DAYLIGHT
END:VTIMEZONE
BEGIN:VEVENT
UID:8351a3ec-131c-41d4-9e95-f455b32dc94b
DTSTAMP:20260424T155622Z
DESCRIPTION:1969: First permanent ARPANET link established.
DTSTART;TZID=America/New_York:20261121T000000
DTEND;TZID=America/New_York:20261121T235900
LOCATION:
SUMMARY:1969: First permanent ARPANET link established.
END:VEVENT
END:VCALENDAR
