BEGIN:VCALENDAR
VERSION:2.0
PRODID:-//archive.cryptologicfoundation.org//NONSGML kigkonsult.se iCalcrea
 tor 2.30.10//
CALSCALE:GREGORIAN
METHOD:PUBLISH
UID:f2f4bc60-f9a9-40f7-910f-b7b9de4262f8
X-WR-CALDESC:1941: Herbert O. Yardley was fired by Canada's National Resear
 ch Council.
X-WR-RELCALID:72ff59b8bdfd625b71685410e4945360
X-WR-TIMEZONE:America/New_York
BEGIN:VTIMEZONE
TZID:America/New_York
BEGIN:STANDARD
TZNAME:EST
DTSTART:20261101T020000
TZOFFSETFROM:-0400
TZOFFSETTO:-0500
RDATE:20271107T020000
END:STANDARD
BEGIN:DAYLIGHT
TZNAME:EDT
DTSTART:20260308T020000
TZOFFSETFROM:-0500
TZOFFSETTO:-0400
RDATE:20270314T020000
RDATE:20280312T020000
END:DAYLIGHT
END:VTIMEZONE
BEGIN:VEVENT
UID:f0adbbda-61cf-4f87-a57b-97f6abe59f5c
DTSTAMP:20260424T162623Z
DESCRIPTION:1941: Herbert O. Yardley was fired by Canada's National Researc
 h Council.
DTSTART;TZID=America/New_York:20261122T000000
DTEND;TZID=America/New_York:20261122T235900
LOCATION:
SUMMARY:1941: Herbert Yardley fired by Canada's National Research Council.
END:VEVENT
END:VCALENDAR
