BEGIN:VCALENDAR
VERSION:2.0
PRODID:-//archive.cryptologicfoundation.org//NONSGML kigkonsult.se iCalcrea
 tor 2.30.10//
CALSCALE:GREGORIAN
METHOD:PUBLISH
UID:05409dbb-dbb8-4f21-878f-44be9941b68a
X-WR-CALDESC:23 November 1976: The Data Encryption Standard (DES) was appro
 ved as the federal standard for all unclassified government communications
 .
X-WR-RELCALID:e6685a111ea546202a9a37509f03fdf6
X-WR-TIMEZONE:America/New_York
BEGIN:VTIMEZONE
TZID:America/New_York
BEGIN:STANDARD
TZNAME:EST
DTSTART:20261101T020000
TZOFFSETFROM:-0400
TZOFFSETTO:-0500
RDATE:20271107T020000
END:STANDARD
BEGIN:DAYLIGHT
TZNAME:EDT
DTSTART:20260308T020000
TZOFFSETFROM:-0500
TZOFFSETTO:-0400
RDATE:20270314T020000
RDATE:20280312T020000
END:DAYLIGHT
END:VTIMEZONE
BEGIN:VEVENT
UID:a70bcea9-ebb5-4f1f-8388-0215a4834729
DTSTAMP:20260424T155848Z
DESCRIPTION:23 November 1976: The Data Encryption Standard (DES) was approv
 ed as the federal standard for all unclassified government communications.
DTSTART;TZID=America/New_York:20261123T000000
DTEND;TZID=America/New_York:20261123T235900
LOCATION:
SUMMARY:1976: Data Encryption Standard Approved
END:VEVENT
END:VCALENDAR
