BEGIN:VCALENDAR
VERSION:2.0
PRODID:-//archive.cryptologicfoundation.org//NONSGML kigkonsult.se iCalcrea
 tor 2.30.10//
CALSCALE:GREGORIAN
METHOD:PUBLISH
UID:91419496-7078-4351-8414-cf5ebb659ffc
X-WR-CALDESC:24 November 1956: Lt Gen John A. Samford\, USAF\, became the D
 irector of the National Security Agency. He held this post until his retir
 ement on 23 November 1960.
X-WR-RELCALID:768f5aeef430bf1e195d404b446a517e
X-WR-TIMEZONE:America/New_York
BEGIN:VTIMEZONE
TZID:America/New_York
BEGIN:STANDARD
TZNAME:EST
DTSTART:20261101T020000
TZOFFSETFROM:-0400
TZOFFSETTO:-0500
RDATE:20271107T020000
END:STANDARD
BEGIN:DAYLIGHT
TZNAME:EDT
DTSTART:20260308T020000
TZOFFSETFROM:-0500
TZOFFSETTO:-0400
RDATE:20270314T020000
RDATE:20280312T020000
END:DAYLIGHT
END:VTIMEZONE
BEGIN:VEVENT
UID:1c50f0af-fa97-422a-8340-12f022934c29
DTSTAMP:20260424T155745Z
DESCRIPTION:24 November 1956: Lt Gen John A. Samford\, USAF\, became the Di
 rector of the National Security Agency. He held this post until his retire
 ment on 23 November 1960.
DTSTART;TZID=America/New_York:20261124T000000
DTEND;TZID=America/New_York:20261124T235900
LOCATION:
SUMMARY:1956: Lt Gen John A. Samford\, USAF\, became DIRNSA.
END:VEVENT
END:VCALENDAR
