BEGIN:VCALENDAR
VERSION:2.0
PRODID:-//archive.cryptologicfoundation.org//NONSGML kigkonsult.se iCalcrea
 tor 2.30.10//
CALSCALE:GREGORIAN
METHOD:PUBLISH
UID:75dc1d7f-8906-405d-ae51-ef720a639575
X-WR-CALDESC:24 November 1960: VADM Laurence Frost became Director of the N
 ational Security Agency.
X-WR-RELCALID:66ac2103fa0492018c5104eddf9ec37e
X-WR-TIMEZONE:America/New_York
BEGIN:VTIMEZONE
TZID:America/New_York
BEGIN:STANDARD
TZNAME:EST
DTSTART:20261101T020000
TZOFFSETFROM:-0400
TZOFFSETTO:-0500
RDATE:20271107T020000
END:STANDARD
BEGIN:DAYLIGHT
TZNAME:EDT
DTSTART:20260308T020000
TZOFFSETFROM:-0500
TZOFFSETTO:-0400
RDATE:20270314T020000
RDATE:20280312T020000
END:DAYLIGHT
END:VTIMEZONE
BEGIN:VEVENT
UID:4c1e79d9-0cbc-4ec6-b7ed-69d0227f10d1
DTSTAMP:20260424T161839Z
DESCRIPTION:24 November 1960: VADM Laurence Frost became Director of the Na
 tional Security Agency.
DTSTART;TZID=America/New_York:20261124T000000
DTEND;TZID=America/New_York:20261124T235900
LOCATION:
SUMMARY:1960: VADM Laurence Frost\, USN\, became DIRNSA.
END:VEVENT
END:VCALENDAR
