BEGIN:VCALENDAR
VERSION:2.0
PRODID:-//archive.cryptologicfoundation.org//NONSGML kigkonsult.se iCalcrea
 tor 2.30.10//
CALSCALE:GREGORIAN
METHOD:PUBLISH
UID:98608f4c-09a1-4f92-8f33-902ef94b91ec
X-WR-CALDESC:1 Dec 1887: The U.S. Navy began using 'The U.S. Navy Secret Co
 de'
X-WR-RELCALID:b910e5f0ff6cc8e737df3a48c6846688
X-WR-TIMEZONE:America/New_York
BEGIN:VTIMEZONE
TZID:America/New_York
BEGIN:STANDARD
TZNAME:EST
DTSTART:20261101T020000
TZOFFSETFROM:-0400
TZOFFSETTO:-0500
RDATE:20271107T020000
END:STANDARD
BEGIN:DAYLIGHT
TZNAME:EDT
DTSTART:20260308T020000
TZOFFSETFROM:-0500
TZOFFSETTO:-0400
RDATE:20270314T020000
RDATE:20280312T020000
END:DAYLIGHT
END:VTIMEZONE
BEGIN:VEVENT
UID:93a41b27-e907-4ef8-ad09-ae334700c184
DTSTAMP:20260424T173048Z
DESCRIPTION:1 Dec 1887: The U.S. Navy began using 'The U.S. Navy Secret Cod
 e'
DTSTART;TZID=America/New_York:20261201T000000
DTEND;TZID=America/New_York:20261201T235900
LOCATION:
SUMMARY:1887: U.S. Navy began using 'The U.S. Navy Secret Code'
END:VEVENT
END:VCALENDAR
