BEGIN:VCALENDAR
VERSION:2.0
PRODID:-//archive.cryptologicfoundation.org//NONSGML kigkonsult.se iCalcrea
 tor 2.30.10//
CALSCALE:GREGORIAN
METHOD:PUBLISH
UID:f2f5a03b-1976-40b1-a774-218f5190ac45
X-WR-CALDESC:14 December 1958: The first NSA holiday party took place. \nPh
 oto is of the NSA Headquarters building\, lit up with a holiday message in
  the 1960s.
X-WR-RELCALID:87bc20c54d2a2cab60df1a06ead2279a
X-WR-TIMEZONE:America/New_York
BEGIN:VTIMEZONE
TZID:America/New_York
BEGIN:STANDARD
TZNAME:EST
DTSTART:20261101T020000
TZOFFSETFROM:-0400
TZOFFSETTO:-0500
RDATE:20271107T020000
END:STANDARD
BEGIN:DAYLIGHT
TZNAME:EDT
DTSTART:20260308T020000
TZOFFSETFROM:-0500
TZOFFSETTO:-0400
RDATE:20270314T020000
RDATE:20280312T020000
END:DAYLIGHT
END:VTIMEZONE
BEGIN:VEVENT
UID:d8c72b3a-6694-43a1-b530-d1fa675448e9
DTSTAMP:20260424T173227Z
DESCRIPTION:14 December 1958: The first NSA holiday party took place. \nPho
 to is of the NSA Headquarters building\, lit up with a holiday message in 
 the 1960s.
DTSTART;TZID=America/New_York:20261214T000000
DTEND;TZID=America/New_York:20261214T235900
LOCATION:
SUMMARY:1958: First NSA Holiday Party.
END:VEVENT
END:VCALENDAR
