BEGIN:VCALENDAR
VERSION:2.0
PRODID:-//archive.cryptologicfoundation.org//NONSGML kigkonsult.se iCalcrea
 tor 2.30.10//
CALSCALE:GREGORIAN
METHOD:PUBLISH
UID:be2a823d-bc55-429e-b7cd-192a147a7900
X-WR-CALDESC:16 Dec 1972: NSOC inaugurated. The official ribbon cutting cer
 emony was held in February 1973.
X-WR-RELCALID:dc507e072bafb6c5568b2080aaa08f50
X-WR-TIMEZONE:America/New_York
BEGIN:VTIMEZONE
TZID:America/New_York
BEGIN:STANDARD
TZNAME:EST
DTSTART:20261101T020000
TZOFFSETFROM:-0400
TZOFFSETTO:-0500
RDATE:20271107T020000
END:STANDARD
BEGIN:DAYLIGHT
TZNAME:EDT
DTSTART:20260308T020000
TZOFFSETFROM:-0500
TZOFFSETTO:-0400
RDATE:20270314T020000
RDATE:20280312T020000
END:DAYLIGHT
END:VTIMEZONE
BEGIN:VEVENT
UID:2f3cf5c8-43e0-4763-939f-bbf0bf77e6b9
DTSTAMP:20260424T172748Z
DESCRIPTION:16 Dec 1972: NSOC inaugurated. The official ribbon cutting cere
 mony was held in February 1973.
DTSTART;TZID=America/New_York:20261216T000000
DTEND;TZID=America/New_York:20261216T235900
LOCATION:
SUMMARY:1972: NSOC Inaugurated
END:VEVENT
END:VCALENDAR
