BEGIN:VCALENDAR
VERSION:2.0
PRODID:-//archive.cryptologicfoundation.org//NONSGML kigkonsult.se iCalcrea
 tor 2.30.10//
CALSCALE:GREGORIAN
METHOD:PUBLISH
UID:a37d6923-2aa8-4fb9-8eec-ffabd79fa97e
X-WR-CALDESC:20 Dec 1881: First telephone ciphony device invented by James 
 Harris Rodgers\, chief electrician of the U.S. Capitol.
X-WR-RELCALID:5afb8eed9951fcfe7ffa8b460e9ffa2f
X-WR-TIMEZONE:America/New_York
BEGIN:VTIMEZONE
TZID:America/New_York
BEGIN:STANDARD
TZNAME:EST
DTSTART:20261101T020000
TZOFFSETFROM:-0400
TZOFFSETTO:-0500
RDATE:20271107T020000
END:STANDARD
BEGIN:DAYLIGHT
TZNAME:EDT
DTSTART:20260308T020000
TZOFFSETFROM:-0500
TZOFFSETTO:-0400
RDATE:20270314T020000
RDATE:20280312T020000
END:DAYLIGHT
END:VTIMEZONE
BEGIN:VEVENT
UID:cf6389bc-6424-457e-b8d8-a818864d12d3
DTSTAMP:20260424T174602Z
DESCRIPTION:20 Dec 1881: First telephone ciphony device invented by James H
 arris Rodgers\, chief electrician of the U.S. Capitol.
DTSTART;TZID=America/New_York:20261220T000000
DTEND;TZID=America/New_York:20261220T235900
LOCATION:
SUMMARY:1881: First telephone ciphony device invented by James Harris Rodge
 rs.
END:VEVENT
END:VCALENDAR
