BEGIN:VCALENDAR
VERSION:2.0
PRODID:-//archive.cryptologicfoundation.org//NONSGML kigkonsult.se iCalcrea
 tor 2.30.10//
CALSCALE:GREGORIAN
METHOD:PUBLISH
UID:6331a0fb-21de-4af0-9f01-a0c3088ab89b
X-WR-CALDESC:2001: 'Shoe Bomber' Richard Reid was arrested for attempt to d
 estroy Paris-Miami flight.
X-WR-RELCALID:170896dff387aba1591f35e6971a0989
X-WR-TIMEZONE:America/New_York
BEGIN:VTIMEZONE
TZID:America/New_York
BEGIN:STANDARD
TZNAME:EST
DTSTART:20261101T020000
TZOFFSETFROM:-0400
TZOFFSETTO:-0500
RDATE:20271107T020000
END:STANDARD
BEGIN:DAYLIGHT
TZNAME:EDT
DTSTART:20260308T020000
TZOFFSETFROM:-0500
TZOFFSETTO:-0400
RDATE:20270314T020000
RDATE:20280312T020000
END:DAYLIGHT
END:VTIMEZONE
BEGIN:VEVENT
UID:333c5d49-32f9-482d-8adf-fd070ecfbddb
DTSTAMP:20260424T174241Z
DESCRIPTION:2001: 'Shoe Bomber' Richard Reid was arrested for attempt to de
 stroy Paris-Miami flight.
DTSTART;TZID=America/New_York:20261222T000000
DTEND;TZID=America/New_York:20261222T235900
LOCATION:
SUMMARY:2001: Shoe-bomber Richard Reid arrested.
END:VEVENT
END:VCALENDAR
