BEGIN:VCALENDAR
VERSION:2.0
PRODID:-//archive.cryptologicfoundation.org//NONSGML kigkonsult.se iCalcrea
 tor 2.30.10//
CALSCALE:GREGORIAN
METHOD:PUBLISH
UID:0b983578-3b20-4d12-96ca-9dff5b725569
X-WR-CALDESC:28 Dec 1951: Brownell Committee was established - this led to 
 the creation of NSA. \n\nLearn more in the NSA Cryptologic Almanac 50th An
 niversary Series PDF at the link below.
X-WR-RELCALID:2ab521798c36f992fe9a325177d372fb
X-WR-TIMEZONE:America/New_York
BEGIN:VTIMEZONE
TZID:America/New_York
BEGIN:STANDARD
TZNAME:EST
DTSTART:20261101T020000
TZOFFSETFROM:-0400
TZOFFSETTO:-0500
RDATE:20271107T020000
END:STANDARD
BEGIN:DAYLIGHT
TZNAME:EDT
DTSTART:20260308T020000
TZOFFSETFROM:-0500
TZOFFSETTO:-0400
RDATE:20270314T020000
RDATE:20280312T020000
END:DAYLIGHT
END:VTIMEZONE
BEGIN:VEVENT
UID:186f70f5-6b40-42c2-980f-eca8c95e318a
DTSTAMP:20260424T174700Z
DESCRIPTION:28 Dec 1951: Brownell Committee was established - this led to t
 he creation of NSA. \n\nLearn more in the NSA Cryptologic Almanac 50th Ann
 iversary Series PDF at the link below.
DTSTART;TZID=America/New_York:20261228T000000
DTEND;TZID=America/New_York:20261228T235900
LOCATION:
SUMMARY:1951: Brownell Committee established - led to creation of NSA.
END:VEVENT
END:VCALENDAR
