BEGIN:VCALENDAR
VERSION:2.0
PRODID:-//archive.cryptologicfoundation.org//NONSGML kigkonsult.se iCalcrea
 tor 2.30.10//
CALSCALE:GREGORIAN
METHOD:PUBLISH
UID:eca7c753-d10c-48d4-a7f0-4b4a8ea15fb4
X-WR-CALDESC:2 January 1980: The NSA Office of Policy mandated the use of t
 he term 'Service Cryptologic Element.'\n\nSCEs = Components of the three U
 S military services whose SIGINT activities are subordinate to DIRNSA/CHCS
 S. The SCEs are the US Army Intelligence and Security Command\, the Naval 
 Security Group\, and the Air Force Air Intelligence Agency.
X-WR-RELCALID:b188d2a11dcf9e1704fa9979fcb7b97b
X-WR-TIMEZONE:America/New_York
BEGIN:VTIMEZONE
TZID:America/New_York
BEGIN:STANDARD
TZNAME:EST
DTSTART:20261101T020000
TZOFFSETFROM:-0400
TZOFFSETTO:-0500
RDATE:20271107T020000
END:STANDARD
BEGIN:DAYLIGHT
TZNAME:EDT
DTSTART:20260308T020000
TZOFFSETFROM:-0500
TZOFFSETTO:-0400
RDATE:20270314T020000
RDATE:20280312T020000
END:DAYLIGHT
END:VTIMEZONE
BEGIN:VEVENT
UID:033dbaed-52c1-496e-9d14-1b4f44899406
DTSTAMP:20260424T193036Z
DESCRIPTION:2 January 1980: The NSA Office of Policy mandated the use of th
 e term 'Service Cryptologic Element.'\n\nSCEs = Components of the three US
  military services whose SIGINT activities are subordinate to DIRNSA/CHCSS
 . The SCEs are the US Army Intelligence and Security Command\, the Naval S
 ecurity Group\, and the Air Force Air Intelligence Agency.
DTSTART;TZID=America/New_York:20270102T000000
DTEND;TZID=America/New_York:20270102T235900
LOCATION:
SUMMARY:1980: NSA Office of Policy mandated use of term 'Service Cryptologi
 c Element.'
END:VEVENT
END:VCALENDAR
