BEGIN:VCALENDAR
VERSION:2.0
PRODID:-//archive.cryptologicfoundation.org//NONSGML kigkonsult.se iCalcrea
 tor 2.30.10//
CALSCALE:GREGORIAN
METHOD:PUBLISH
UID:b53df226-923e-4bbf-b4d3-481f37c7ae03
X-WR-CALDESC:4 January 1957: MG Gordon Blake named Commander\, Air Force Se
 curity Service.  In January 1962\, Lt Gen Gordon Blake became director of 
 the National Security Agency.\n\nWant to learn a 'little known fact' about
  Gen Blake's involvement with the ending of the war with the Japanese in 1
 945? Check out the link below.
X-WR-RELCALID:c3c3c200862b847205271c946c900f8a
X-WR-TIMEZONE:America/New_York
BEGIN:VTIMEZONE
TZID:America/New_York
BEGIN:STANDARD
TZNAME:EST
DTSTART:20261101T020000
TZOFFSETFROM:-0400
TZOFFSETTO:-0500
RDATE:20271107T020000
END:STANDARD
BEGIN:DAYLIGHT
TZNAME:EDT
DTSTART:20260308T020000
TZOFFSETFROM:-0500
TZOFFSETTO:-0400
RDATE:20270314T020000
RDATE:20280312T020000
END:DAYLIGHT
END:VTIMEZONE
BEGIN:VEVENT
UID:45d75f41-84c1-4d8c-ae5c-85332eb37f8c
DTSTAMP:20260424T192302Z
DESCRIPTION:4 January 1957: MG Gordon Blake named Commander\, Air Force Sec
 urity Service.  In January 1962\, Lt Gen Gordon Blake became director of t
 he National Security Agency.\n\nWant to learn a 'little known fact' about 
 Gen Blake's involvement with the ending of the war with the Japanese in 19
 45? Check out the link below.
DTSTART;TZID=America/New_York:20270104T000000
DTEND;TZID=America/New_York:20270104T235900
LOCATION:
SUMMARY:1957: MG Gordon Blake named Commander\, AF Security Service
END:VEVENT
END:VCALENDAR
