BEGIN:VCALENDAR
VERSION:2.0
PRODID:-//archive.cryptologicfoundation.org//NONSGML kigkonsult.se iCalcrea
 tor 2.30.10//
CALSCALE:GREGORIAN
METHOD:PUBLISH
UID:fecb9209-7932-4c43-b194-db284a700ab8
X-WR-CALDESC:13 January 2003: First 'History Today' article on NSA Daily Pa
 ge. To see a selection of the 'History Today' PDFs - visit the link below.
X-WR-RELCALID:7f409bc1949d160fd6089298e0f26a5c
X-WR-TIMEZONE:America/New_York
BEGIN:VTIMEZONE
TZID:America/New_York
BEGIN:STANDARD
TZNAME:EST
DTSTART:20261101T020000
TZOFFSETFROM:-0400
TZOFFSETTO:-0500
RDATE:20271107T020000
END:STANDARD
BEGIN:DAYLIGHT
TZNAME:EDT
DTSTART:20260308T020000
TZOFFSETFROM:-0500
TZOFFSETTO:-0400
RDATE:20270314T020000
RDATE:20280312T020000
END:DAYLIGHT
END:VTIMEZONE
BEGIN:VEVENT
UID:458d63ca-7a72-4dee-9233-f81e1acafb04
DTSTAMP:20260424T192334Z
DESCRIPTION:13 January 2003: First 'History Today' article on NSA Daily Pag
 e. To see a selection of the 'History Today' PDFs - visit the link below.
DTSTART;TZID=America/New_York:20270113T000000
DTEND;TZID=America/New_York:20270113T235900
LOCATION:
SUMMARY:2003: First 'History Today' article on NSA Daily Page.
END:VEVENT
END:VCALENDAR
