BEGIN:VCALENDAR
VERSION:2.0
PRODID:-//archive.cryptologicfoundation.org//NONSGML kigkonsult.se iCalcrea
 tor 2.30.10//
CALSCALE:GREGORIAN
METHOD:PUBLISH
UID:ac2d64f2-3e1a-4c3a-b786-1b123d69bc08
X-WR-CALDESC:16 January 1898: General Order No. 9 authorized publication of
  a new War Department Telegraphic Code.
X-WR-RELCALID:9e3b875f17e37fc311adc2954641263f
X-WR-TIMEZONE:America/New_York
BEGIN:VTIMEZONE
TZID:America/New_York
BEGIN:STANDARD
TZNAME:EST
DTSTART:20261101T020000
TZOFFSETFROM:-0400
TZOFFSETTO:-0500
RDATE:20271107T020000
END:STANDARD
BEGIN:DAYLIGHT
TZNAME:EDT
DTSTART:20260308T020000
TZOFFSETFROM:-0500
TZOFFSETTO:-0400
RDATE:20270314T020000
RDATE:20280312T020000
END:DAYLIGHT
END:VTIMEZONE
BEGIN:VEVENT
UID:f1777932-73bb-4649-a0d9-1ee6004e841e
DTSTAMP:20260424T193019Z
DESCRIPTION:16 January 1898: General Order No. 9 authorized publication of 
 a new War Department Telegraphic Code.
DTSTART;TZID=America/New_York:20270116T000000
DTEND;TZID=America/New_York:20270116T235900
LOCATION:
SUMMARY:1898: Publication of a new War Department Telegraphic Code was auth
 orized.
END:VEVENT
END:VCALENDAR
