BEGIN:VCALENDAR
VERSION:2.0
PRODID:-//archive.cryptologicfoundation.org//NONSGML kigkonsult.se iCalcrea
 tor 2.30.10//
CALSCALE:GREGORIAN
METHOD:PUBLISH
UID:d66279d4-71a4-428a-9405-99370394b0ea
X-WR-CALDESC:24 January 1918: Arthur Scherbius received a patent for a ciph
 er machine\, now known as the ENIGMA. \n\nLearn about the updated (and alw
 ays popular) ENIGMA exhibit at the NCM via the link below.\n
X-WR-RELCALID:d3b817d1eb616ca60265d804b565181b
X-WR-TIMEZONE:America/New_York
BEGIN:VTIMEZONE
TZID:America/New_York
BEGIN:STANDARD
TZNAME:EST
DTSTART:20261101T020000
TZOFFSETFROM:-0400
TZOFFSETTO:-0500
RDATE:20271107T020000
END:STANDARD
BEGIN:DAYLIGHT
TZNAME:EDT
DTSTART:20260308T020000
TZOFFSETFROM:-0500
TZOFFSETTO:-0400
RDATE:20270314T020000
RDATE:20280312T020000
END:DAYLIGHT
END:VTIMEZONE
BEGIN:VEVENT
UID:900b0383-678f-41a5-8ad5-f1a72a058444
DTSTAMP:20260424T192637Z
DESCRIPTION:24 January 1918: Arthur Scherbius received a patent for a ciphe
 r machine\, now known as the ENIGMA. \n\nLearn about the updated (and alwa
 ys popular) ENIGMA exhibit at the NCM via the link below.\n
DTSTART;TZID=America/New_York:20270124T000000
DTEND;TZID=America/New_York:20270124T235900
LOCATION:
SUMMARY:1918: Arthur Scherbius received patent for ENIGMA.
END:VEVENT
END:VCALENDAR
